BEGIN:VCALENDAR
VERSION:2.0
PRODID:spatie/icalendar-generator
NAME:Kalendář akcí
X-WR-CALNAME:Kalendář akcí
DESCRIPTION:Kalendář akcí
X-WR-CALDESC:Kalendář akcí
BEGIN:VEVENT
UID:106
SUMMARY:Founder's Cookbook Academy 2026
DESCRIPTION:Founder's Cookbook Academy 2026
LOCATION:Podnikatelské a inovační centrum hl. m. Prahy
URL:https://www.prazskyinovacniinstitut.cz/udalosti/founder's-cookbook-acad
 emy-2026
DTSTART:20260428T000000Z
DTSTAMP:20260425T161543Z
END:VEVENT
BEGIN:VEVENT
UID:109
SUMMARY:Výcvik talentových průvodců | TALENT KOMPAS
DESCRIPTION:Výcvik talentových průvodců | TALENT KOMPAS
LOCATION:Podnikatelské a inovační centrum hl. m. Prahy
URL:https://www.prazskyinovacniinstitut.cz/udalosti/vycvik-talentovych-pruv
 odcu-|-talent-kompas
DTSTART:20260514T090000Z
DTSTAMP:20260425T161543Z
END:VEVENT
BEGIN:VEVENT
UID:112
SUMMARY:Cirkulární města & byznys 5: Cirkulární stavebnictví
DESCRIPTION:Cirkulární města & byznys 5: Cirkulární stavebnictví
LOCATION:Zenwork\, Palác ARA
URL:https://www.prazskyinovacniinstitut.cz/udalosti/cirkularni-mesta-and-by
 znys-5-cirkularni-stavebnictvi
DTSTART:20260519T090000Z
DTSTAMP:20260425T161543Z
END:VEVENT
BEGIN:VEVENT
UID:113
SUMMARY:Koučovací principy a otázky kariérového poradenství
DESCRIPTION:Koučovací principy a otázky kariérového poradenství
LOCATION:Podnikatelské a inovační centrum hl.m.Prahy (Charvátova 6) 
URL:https://www.prazskyinovacniinstitut.cz/udalosti/koucovaci-principy-a-ot
 azky-karieroveho-poradenstvi
DTSTART:20260521T153000Z
DTSTAMP:20260425T161543Z
END:VEVENT
BEGIN:VEVENT
UID:103
SUMMARY:Pražská inovační spojka
DESCRIPTION:Pražská inovační spojka
LOCATION:CAMP
URL:https://www.prazskyinovacniinstitut.cz/udalosti/prazska-inovacni-spojka
DTSTART:20260525T093000Z
DTSTAMP:20260425T161543Z
END:VEVENT
BEGIN:VEVENT
UID:107
SUMMARY:Trh pomůcek pro kariérové poradenství
DESCRIPTION:Trh pomůcek pro kariérové poradenství
LOCATION:Podnikatelské a inovační centrum hl. m. Prahy
URL:https://www.prazskyinovacniinstitut.cz/udalosti/trh-pomucek-pro-kariero
 ve-poradenstvi
DTSTART:20260528T130000Z
DTSTAMP:20260425T161543Z
END:VEVENT
END:VCALENDAR