BEGIN:VCALENDAR
VERSION:2.0
PRODID:spatie/icalendar-generator
NAME:Trh pomůcek pro kariérové poradenství
X-WR-CALNAME:Trh pomůcek pro kariérové poradenství
DESCRIPTION:Trh pomůcek pro kariérové poradenství
X-WR-CALDESC:Trh pomůcek pro kariérové poradenství
BEGIN:VEVENT
UID:107
SUMMARY:Trh pomůcek pro kariérové poradenství
DESCRIPTION:Trh pomůcek pro kariérové poradenství
LOCATION:Podnikatelské a inovační centrum hl. m. Prahy
URL:https://www.prazskyinovacniinstitut.cz/udalosti/trh-pomucek-pro-kariero
 ve-poradenstvi
DTSTART;TZID=Europe/Prague:20260528T130000
DTEND;TZID=Europe/Prague:20260528T163000
DTSTAMP;TZID=Europe/Bratislava:20260425T172704
END:VEVENT
END:VCALENDAR