BEGIN:VCALENDAR
VERSION:2.0
PRODID:spatie/icalendar-generator
NAME:Pražská inovační spojka
X-WR-CALNAME:Pražská inovační spojka
DESCRIPTION:Pražská inovační spojka
X-WR-CALDESC:Pražská inovační spojka
BEGIN:VEVENT
UID:103
SUMMARY:Pražská inovační spojka
DESCRIPTION:Pražská inovační spojka
LOCATION:CAMP
URL:https://www.prazskyinovacniinstitut.cz/udalosti/prazska-inovacni-spojka
DTSTART;TZID=Europe/Prague:20260525T093000
DTEND;TZID=Europe/Prague:20260525T160000
DTSTAMP;TZID=Europe/Bratislava:20260425T173354
END:VEVENT
END:VCALENDAR