BEGIN:VCALENDAR
VERSION:2.0
PRODID:spatie/icalendar-generator
NAME:Praha a podnikavost I: Co nám data (ne)říkají o podnikavosti v Pra
 ze?
X-WR-CALNAME:Praha a podnikavost I: Co nám data (ne)říkají o podnikavos
 ti v Praze?
DESCRIPTION:Praha a podnikavost I: Co nám data (ne)říkají o podnikavost
 i v Praze?
X-WR-CALDESC:Praha a podnikavost I: Co nám data (ne)říkají o podnikavos
 ti v Praze?
BEGIN:VEVENT
UID:110
SUMMARY:Praha a podnikavost I: Co nám data (ne)říkají o podnikavosti v 
 Praze?
DESCRIPTION:Praha a podnikavost I: Co nám data (ne)říkají o podnikavost
 i v Praze?
LOCATION:online
URL:https://www.prazskyinovacniinstitut.cz/udalosti/praha-a-podnikavost-i-c
 o-nam-data-(ne)rikaji-o-podnikavosti-v-praze
DTSTART;TZID=Europe/Prague:20260409T090000
DTEND;TZID=Europe/Prague:20260409T000012
DTSTAMP;TZID=Europe/Bratislava:20260425T185749
END:VEVENT
END:VCALENDAR