BEGIN:VCALENDAR
VERSION:2.0
PRODID:spatie/icalendar-generator
NAME:Networking Innovate Prague
X-WR-CALNAME:Networking Innovate Prague
DESCRIPTION:Networking Innovate Prague
X-WR-CALDESC:Networking Innovate Prague
BEGIN:VEVENT
UID:108
SUMMARY:Networking Innovate Prague
DESCRIPTION:Networking Innovate Prague
LOCATION:Zenwork Palác ARA
URL:https://www.prazskyinovacniinstitut.cz/udalosti/networking-innovate-pra
 gue
DTSTART;TZID=Europe/Prague:20260415T183000
DTEND;TZID=Europe/Prague:20260415T210000
DTSTAMP;TZID=Europe/Bratislava:20260425T184733
END:VEVENT
END:VCALENDAR