BEGIN:VCALENDAR
VERSION:2.0
PRODID:spatie/icalendar-generator
NAME:Návštěva budoucnosti
X-WR-CALNAME:Návštěva budoucnosti
DESCRIPTION:Návštěva budoucnosti
X-WR-CALDESC:Návštěva budoucnosti
BEGIN:VEVENT
UID:111
SUMMARY:Návštěva budoucnosti
DESCRIPTION:Návštěva budoucnosti
LOCATION:ČVUT v Praze 6
URL:https://www.prazskyinovacniinstitut.cz/udalosti/navsteva-budoucnosti
DTSTART;TZID=Europe/Prague:20260413T000000
DTEND;TZID=Europe/Prague:20260630T235959
DTSTAMP;TZID=Europe/Bratislava:20260425T185616
END:VEVENT
END:VCALENDAR