BEGIN:VCALENDAR
VERSION:2.0
PRODID:spatie/icalendar-generator
NAME:Koučovací principy a otázky kariérového poradenství
X-WR-CALNAME:Koučovací principy a otázky kariérového poradenství
DESCRIPTION:Koučovací principy a otázky kariérového poradenství
X-WR-CALDESC:Koučovací principy a otázky kariérového poradenství
BEGIN:VEVENT
UID:113
SUMMARY:Koučovací principy a otázky kariérového poradenství
DESCRIPTION:Koučovací principy a otázky kariérového poradenství
LOCATION:Podnikatelské a inovační centrum hl.m.Prahy (Charvátova 6) 
URL:https://www.prazskyinovacniinstitut.cz/udalosti/koucovaci-principy-a-ot
 azky-karieroveho-poradenstvi
DTSTART;TZID=Europe/Prague:20260521T153000
DTEND;TZID=Europe/Prague:20260521T193000
DTSTAMP;TZID=Europe/Bratislava:20260425T173446
END:VEVENT
END:VCALENDAR