BEGIN:VCALENDAR
VERSION:2.0
PRODID:spatie/icalendar-generator
NAME:From Lab Bench to Market
X-WR-CALNAME:From Lab Bench to Market
DESCRIPTION:From Lab Bench to Market
X-WR-CALDESC:From Lab Bench to Market
BEGIN:VEVENT
UID:102
SUMMARY:From Lab Bench to Market
DESCRIPTION:From Lab Bench to Market
LOCATION:SmetanaQ
URL:https://www.prazskyinovacniinstitut.cz/udalosti/from-lab-bench-to-marke
 t
DTSTART;TZID=Europe/Prague:20260423T093000
DTEND;TZID=Europe/Prague:20260423T160000
DTSTAMP;TZID=Europe/Bratislava:20260425T172341
END:VEVENT
END:VCALENDAR