BEGIN:VCALENDAR
VERSION:2.0
PRODID:spatie/icalendar-generator
NAME:Founders Masterclass: Startup Finance — From Chaos to Investment-Rea
 dy
X-WR-CALNAME:Founders Masterclass: Startup Finance — From Chaos to Invest
 ment-Ready
DESCRIPTION:Founders Masterclass: Startup Finance — From Chaos to Investm
 ent-Ready
X-WR-CALDESC:Founders Masterclass: Startup Finance — From Chaos to Invest
 ment-Ready
BEGIN:VEVENT
UID:104
SUMMARY:Founders Masterclass: Startup Finance — From Chaos to Investment-
 Ready
DESCRIPTION:Founders Masterclass: Startup Finance — From Chaos to Investm
 ent-Ready
LOCATION:WorkLounge Příkopy
DTSTART;TZID=Europe/Prague:20260331T180000
DTEND;TZID=Europe/Prague:20260331T210000
DTSTAMP;TZID=Europe/Bratislava:20260425T202136
END:VEVENT
END:VCALENDAR