BEGIN:VCALENDAR
VERSION:2.0
PRODID:spatie/icalendar-generator
NAME:Founder's Cookbook Academy 2026
X-WR-CALNAME:Founder's Cookbook Academy 2026
DESCRIPTION:Founder's Cookbook Academy 2026
X-WR-CALDESC:Founder's Cookbook Academy 2026
BEGIN:VEVENT
UID:106
SUMMARY:Founder's Cookbook Academy 2026
DESCRIPTION:Founder's Cookbook Academy 2026
LOCATION:Podnikatelské a inovační centrum hl. m. Prahy
URL:https://www.prazskyinovacniinstitut.cz/udalosti/founder's-cookbook-acad
 emy-2026
DTSTART;TZID=Europe/Prague:20260428T000000
DTEND;TZID=Europe/Prague:20260609T235959
DTSTAMP;TZID=Europe/Bratislava:20260425T161249
END:VEVENT
END:VCALENDAR