BEGIN:VCALENDAR
VERSION:2.0
PRODID:spatie/icalendar-generator
NAME:Cirkulární města & byznys 5: Cirkulární stavebnictví
X-WR-CALNAME:Cirkulární města & byznys 5: Cirkulární stavebnictví
DESCRIPTION:Cirkulární města & byznys 5: Cirkulární stavebnictví
X-WR-CALDESC:Cirkulární města & byznys 5: Cirkulární stavebnictví
BEGIN:VEVENT
UID:112
SUMMARY:Cirkulární města & byznys 5: Cirkulární stavebnictví
DESCRIPTION:Cirkulární města & byznys 5: Cirkulární stavebnictví
LOCATION:Zenwork\, Palác ARA
URL:https://www.prazskyinovacniinstitut.cz/udalosti/cirkularni-mesta-and-by
 znys-5-cirkularni-stavebnictvi
DTSTART;TZID=Europe/Prague:20260519T090000
DTEND;TZID=Europe/Prague:20260519T143000
DTSTAMP;TZID=Europe/Bratislava:20260425T162654
END:VEVENT
END:VCALENDAR