BEGIN:VCALENDAR
VERSION:2.0
PRODID:spatie/icalendar-generator
NAME: Peníze pro startupy: kde najít skutečné příležitosti?
X-WR-CALNAME: Peníze pro startupy: kde najít skutečné příležitosti?
DESCRIPTION: Peníze pro startupy: kde najít skutečné příležitosti?
X-WR-CALDESC: Peníze pro startupy: kde najít skutečné příležitosti?
BEGIN:VEVENT
UID:95
SUMMARY: Peníze pro startupy: kde najít skutečné příležitosti?
DESCRIPTION: Peníze pro startupy: kde najít skutečné příležitosti?
LOCATION:Podnikatelské a inovační centrum hl. m. Prahy
URL:https://www.prazskyinovacniinstitut.cz/udalosti/-penize-pro-startupy-kd
 e-najit-skutecne-prilezitosti
DTSTART;TZID=Europe/Prague:20260316T093000
DTEND;TZID=Europe/Prague:20260316T150000
DTSTAMP;TZID=Europe/Bratislava:20260425T202110
END:VEVENT
END:VCALENDAR